BEGIN:VCALENDAR
VERSION:2.0
PRODID:-//CNV Plongée sous-marine - ECPv4.6.10.1//NONSGML v1.0//EN
CALSCALE:GREGORIAN
METHOD:PUBLISH
X-WR-CALNAME:CNV Plongée sous-marine
X-ORIGINAL-URL:http://cnv-plongee.fr
X-WR-CALDESC:Events for CNV Plongée sous-marine
BEGIN:VEVENT
DTSTART;TZID=UTC+1:20201218T203000
DTEND;TZID=UTC+1:20201218T223000
DTSTAMP:20260426T015633
CREATED:20201128T152103Z
LAST-MODIFIED:20201128T152103Z
UID:4328-1608323400-1608330600@cnv-plongee.fr
SUMMARY:BIO : PB1 en visio
DESCRIPTION:
URL:http://cnv-plongee.fr/event/bio-pb1-en-visio/
END:VEVENT
END:VCALENDAR