BEGIN:VCALENDAR
VERSION:2.0
PRODID:-//CNV Plongée sous-marine - ECPv4.6.10.1//NONSGML v1.0//EN
CALSCALE:GREGORIAN
METHOD:PUBLISH
X-WR-CALNAME:CNV Plongée sous-marine
X-ORIGINAL-URL:http://cnv-plongee.fr
X-WR-CALDESC:Events for CNV Plongée sous-marine
BEGIN:VEVENT
DTSTART;TZID=UTC+1:20210307T140000
DTEND;TZID=UTC+1:20210307T170000
DTSTAMP:20260425T191416
CREATED:20210302T095712Z
LAST-MODIFIED:20210302T095721Z
UID:4450-1615125600-1615136400@cnv-plongee.fr
SUMMARY:Examen théorique N3
DESCRIPTION:
URL:http://cnv-plongee.fr/event/examen-theorique-n3/
END:VEVENT
END:VCALENDAR