BEGIN:VCALENDAR
VERSION:2.0
PRODID:-//CNV Plongée sous-marine - ECPv4.6.10.1//NONSGML v1.0//EN
CALSCALE:GREGORIAN
METHOD:PUBLISH
X-WR-CALNAME:CNV Plongée sous-marine
X-ORIGINAL-URL:http://cnv-plongee.fr
X-WR-CALDESC:Events for CNV Plongée sous-marine
BEGIN:VEVENT
DTSTART;TZID=UTC+1:20210201T213000
DTEND;TZID=UTC+1:20210201T223000
DTSTAMP:20260425T233429
CREATED:20210109T165645Z
LAST-MODIFIED:20210109T165654Z
UID:4381-1612215000-1612218600@cnv-plongee.fr
SUMMARY:Formation BIO N3 en visio
DESCRIPTION:
URL:http://cnv-plongee.fr/event/formation-bio-n3-en-visio/
END:VEVENT
END:VCALENDAR