BEGIN:VCALENDAR
VERSION:2.0
PRODID:-//CNV Plongée sous-marine - ECPv4.6.10.1//NONSGML v1.0//EN
CALSCALE:GREGORIAN
METHOD:PUBLISH
X-WR-CALNAME:CNV Plongée sous-marine
X-ORIGINAL-URL:http://cnv-plongee.fr
X-WR-CALDESC:Events for CNV Plongée sous-marine
BEGIN:VEVENT
DTSTART;TZID=UTC+1:20210124T170000
DTEND;TZID=UTC+1:20210124T190000
DTSTAMP:20260426T004626
CREATED:20210117T173852Z
LAST-MODIFIED:20210117T173852Z
UID:4401-1611507600-1611514800@cnv-plongee.fr
SUMMARY:Formation MF1 en visio
DESCRIPTION:
URL:http://cnv-plongee.fr/event/formation-mf1-en-visio-7/
END:VEVENT
END:VCALENDAR