BEGIN:VCALENDAR
VERSION:2.0
PRODID:-//CNV Plongée sous-marine - ECPv4.6.10.1//NONSGML v1.0//EN
CALSCALE:GREGORIAN
METHOD:PUBLISH
X-WR-CALNAME:CNV Plongée sous-marine
X-ORIGINAL-URL:http://cnv-plongee.fr
X-WR-CALDESC:Events for CNV Plongée sous-marine
BEGIN:VEVENT
DTSTART;TZID=UTC+1:20210120T203000
DTEND;TZID=UTC+1:20210120T223000
DTSTAMP:20260425T233726
CREATED:20210109T165219Z
LAST-MODIFIED:20210109T165219Z
UID:4376-1611174600-1611181800@cnv-plongee.fr
SUMMARY:Formation N2 en visio
DESCRIPTION:
URL:http://cnv-plongee.fr/event/formation-n2-en-visio-10/
END:VEVENT
END:VCALENDAR