BEGIN:VCALENDAR
VERSION:2.0
PRODID:-//CNV Plongée sous-marine - ECPv4.6.10.1//NONSGML v1.0//EN
CALSCALE:GREGORIAN
METHOD:PUBLISH
X-WR-CALNAME:CNV Plongée sous-marine
X-ORIGINAL-URL:http://cnv-plongee.fr
X-WR-CALDESC:Events for CNV Plongée sous-marine
BEGIN:VEVENT
DTSTART;TZID=UTC+1:20210210T203000
DTEND;TZID=UTC+1:20210210T223000
DTSTAMP:20260425T222750
CREATED:20210208T085330Z
LAST-MODIFIED:20210208T085330Z
UID:4420-1612989000-1612996200@cnv-plongee.fr
SUMMARY:Formation N2 en visio
DESCRIPTION:
URL:http://cnv-plongee.fr/event/formation-n2-en-visio-13/
END:VEVENT
END:VCALENDAR