BEGIN:VCALENDAR
VERSION:2.0
PRODID:-//CNV Plongée sous-marine - ECPv4.6.10.1//NONSGML v1.0//EN
CALSCALE:GREGORIAN
METHOD:PUBLISH
X-WR-CALNAME:CNV Plongée sous-marine
X-ORIGINAL-URL:http://cnv-plongee.fr
X-WR-CALDESC:Events for CNV Plongée sous-marine
BEGIN:VEVENT
DTSTART;TZID=UTC+1:20201125T203000
DTEND;TZID=UTC+1:20201125T220000
DTSTAMP:20260426T030131
CREATED:20201101T102345Z
LAST-MODIFIED:20201101T102345Z
UID:4301-1606336200-1606341600@cnv-plongee.fr
SUMMARY:Formation N2 en visio
DESCRIPTION:
URL:http://cnv-plongee.fr/event/formation-n2-en-visio-4/
END:VEVENT
END:VCALENDAR