BEGIN:VCALENDAR
VERSION:2.0
PRODID:-//CNV Plongée sous-marine - ECPv4.6.10.1//NONSGML v1.0//EN
CALSCALE:GREGORIAN
METHOD:PUBLISH
X-WR-CALNAME:CNV Plongée sous-marine
X-ORIGINAL-URL:http://cnv-plongee.fr
X-WR-CALDESC:Events for CNV Plongée sous-marine
BEGIN:VEVENT
DTSTART;TZID=UTC+1:20181013T203000
DTEND;TZID=UTC+1:20181013T233000
DTSTAMP:20260421T014941
CREATED:20180907T083813Z
LAST-MODIFIED:20180907T083813Z
UID:2989-1539462600-1539473400@cnv-plongee.fr
SUMMARY:Soirée Film
DESCRIPTION:
URL:http://cnv-plongee.fr/event/soiree-film/
CATEGORIES:Audiovisuel
END:VEVENT
END:VCALENDAR