BEGIN:VCALENDAR
VERSION:2.0
PRODID:-//CNV Plongée sous-marine - ECPv4.6.10.1//NONSGML v1.0//EN
CALSCALE:GREGORIAN
METHOD:PUBLISH
X-WR-CALNAME:CNV Plongée sous-marine
X-ORIGINAL-URL:http://cnv-plongee.fr
X-WR-CALDESC:Events for CNV Plongée sous-marine
BEGIN:VEVENT
DTSTART;TZID=UTC+1:20210402T200000
DTEND;TZID=UTC+1:20210402T210000
DTSTAMP:20260423T223413
CREATED:20200906T180544Z
LAST-MODIFIED:20210302T100052Z
UID:4153-1617393600-1617397200@cnv-plongee.fr
SUMMARY:Fosse à Antony Annulée
DESCRIPTION:
URL:http://cnv-plongee.fr/event/fosse-a-antony-6/
CATEGORIES:Ecole
END:VEVENT
END:VCALENDAR