BEGIN:VCALENDAR
VERSION:2.0
PRODID:-//CNV Plongée sous-marine - ECPv4.6.10.1//NONSGML v1.0//EN
CALSCALE:GREGORIAN
METHOD:PUBLISH
X-WR-CALNAME:CNV Plongée sous-marine
X-ORIGINAL-URL:http://cnv-plongee.fr
X-WR-CALDESC:Events for CNV Plongée sous-marine
BEGIN:VEVENT
DTSTART;TZID=UTC+1:20210617T204500
DTEND;TZID=UTC+1:20210617T223000
DTSTAMP:20260419T164218
CREATED:20210614T045916Z
LAST-MODIFIED:20210614T045916Z
UID:4635-1623962700-1623969000@cnv-plongee.fr
SUMMARY:PISCINE
DESCRIPTION:
URL:http://cnv-plongee.fr/event/piscine-5/
END:VEVENT
END:VCALENDAR