BEGIN:VCALENDAR
VERSION:2.0
PRODID:-//CNV Plongée sous-marine - ECPv4.6.10.1//NONSGML v1.0//EN
CALSCALE:GREGORIAN
METHOD:PUBLISH
X-WR-CALNAME:CNV Plongée sous-marine
X-ORIGINAL-URL:http://cnv-plongee.fr
X-WR-CALDESC:Events for CNV Plongée sous-marine
BEGIN:VEVENT
DTSTART;TZID=UTC+1:20180129T210000
DTEND;TZID=UTC+1:20180129T230000
DTSTAMP:20260426T020100
CREATED:20180129T200737Z
LAST-MODIFIED:20180129T200737Z
UID:2423-1517259600-1517266800@cnv-plongee.fr
SUMMARY:Apnée
DESCRIPTION:
URL:http://cnv-plongee.fr/event/apnee-6/
CATEGORIES:Apnée
END:VEVENT
END:VCALENDAR