BEGIN:VCALENDAR
VERSION:2.0
PRODID:-//CNV Plongée sous-marine - ECPv4.6.10.1//NONSGML v1.0//EN
CALSCALE:GREGORIAN
METHOD:PUBLISH
X-WR-CALNAME:CNV Plongée sous-marine
X-ORIGINAL-URL:http://cnv-plongee.fr
X-WR-CALDESC:Events for CNV Plongée sous-marine
BEGIN:VEVENT
DTSTART;TZID=UTC+1:20180618T210000
DTEND;TZID=UTC+1:20180618T223000
DTSTAMP:20260425T212259
CREATED:20180408T183724Z
LAST-MODIFIED:20180408T183724Z
UID:2660-1529355600-1529361000@cnv-plongee.fr
SUMMARY:Apnée
DESCRIPTION:
URL:http://cnv-plongee.fr/event/apnee-18/
CATEGORIES:Apnée
END:VEVENT
END:VCALENDAR