BEGIN:VCALENDAR
VERSION:2.0
PRODID:-//CNV Plongée sous-marine - ECPv4.6.10.1//NONSGML v1.0//EN
CALSCALE:GREGORIAN
METHOD:PUBLISH
X-WR-CALNAME:CNV Plongée sous-marine
X-ORIGINAL-URL:http://cnv-plongee.fr
X-WR-CALDESC:Events for CNV Plongée sous-marine
BEGIN:VEVENT
DTSTART;TZID=UTC+1:20180924T210000
DTEND;TZID=UTC+1:20180924T230000
DTSTAMP:20260425T180229
CREATED:20180906T171108Z
LAST-MODIFIED:20180907T081706Z
UID:2924-1537822800-1537830000@cnv-plongee.fr
SUMMARY:Apnée + libre
DESCRIPTION:
URL:http://cnv-plongee.fr/event/apnee-libre/
CATEGORIES:Apnée
END:VEVENT
END:VCALENDAR