BEGIN:VCALENDAR
VERSION:2.0
PRODID:-//CNV Plongée sous-marine - ECPv4.6.10.1//NONSGML v1.0//EN
CALSCALE:GREGORIAN
METHOD:PUBLISH
X-WR-CALNAME:CNV Plongée sous-marine
X-ORIGINAL-URL:http://cnv-plongee.fr
X-WR-CALDESC:Events for CNV Plongée sous-marine
BEGIN:VEVENT
DTSTART;TZID=UTC+1:20181003T210000
DTEND;TZID=UTC+1:20181003T223000
DTSTAMP:20260425T164414
CREATED:20180906T174602Z
LAST-MODIFIED:20180907T082609Z
UID:2951-1538600400-1538605800@cnv-plongee.fr
SUMMARY:N1 - N2 - Apnée - Baptême
DESCRIPTION:
URL:http://cnv-plongee.fr/event/cours-n1-n2/
CATEGORIES:Apnée,Ecole
END:VEVENT
END:VCALENDAR