BEGIN:VCALENDAR
VERSION:2.0
PRODID:-//CNV Plongée sous-marine - ECPv4.6.10.1//NONSGML v1.0//EN
CALSCALE:GREGORIAN
METHOD:PUBLISH
X-WR-CALNAME:CNV Plongée sous-marine
X-ORIGINAL-URL:http://cnv-plongee.fr
X-WR-CALDESC:Events for CNV Plongée sous-marine
BEGIN:VEVENT
DTSTART;TZID=UTC+1:20181008T210000
DTEND;TZID=UTC+1:20181008T230000
DTSTAMP:20260425T164240
CREATED:20180907T081954Z
LAST-MODIFIED:20180907T081954Z
UID:2972-1539032400-1539039600@cnv-plongee.fr
SUMMARY:Apnée + libre
DESCRIPTION:
URL:http://cnv-plongee.fr/event/apnee-libre-3/
CATEGORIES:Apnée
END:VEVENT
END:VCALENDAR