BEGIN:VCALENDAR
VERSION:2.0
PRODID:-//CNV Plongée sous-marine - ECPv4.6.10.1//NONSGML v1.0//EN
CALSCALE:GREGORIAN
METHOD:PUBLISH
X-WR-CALNAME:CNV Plongée sous-marine
X-ORIGINAL-URL:http://cnv-plongee.fr
X-WR-CALDESC:Events for CNV Plongée sous-marine
BEGIN:VEVENT
DTSTART;TZID=UTC+1:20181017T210000
DTEND;TZID=UTC+1:20181017T223000
DTSTAMP:20260425T164152
CREATED:20180906T174708Z
LAST-MODIFIED:20180907T082721Z
UID:2955-1539810000-1539815400@cnv-plongee.fr
SUMMARY:N1 - N2 - Apnée - Baptême
DESCRIPTION:
URL:http://cnv-plongee.fr/event/cours-n1-n2-3/
CATEGORIES:Apnée,Ecole
END:VEVENT
END:VCALENDAR