BEGIN:VCALENDAR
VERSION:2.0
PRODID:-//CNV Plongée sous-marine - ECPv4.6.10.1//NONSGML v1.0//EN
CALSCALE:GREGORIAN
METHOD:PUBLISH
X-WR-CALNAME:CNV Plongée sous-marine
X-ORIGINAL-URL:http://cnv-plongee.fr
X-WR-CALDESC:Events for CNV Plongée sous-marine
BEGIN:VEVENT
DTSTART;TZID=UTC+1:20181114T210000
DTEND;TZID=UTC+1:20181114T230000
DTSTAMP:20260425T153014
CREATED:20180907T084730Z
LAST-MODIFIED:20180907T084730Z
UID:3009-1542229200-1542236400@cnv-plongee.fr
SUMMARY:N1 - N2 - Apnée - Baptême
DESCRIPTION:
URL:http://cnv-plongee.fr/event/n1-n2-apnee-bapteme-2/
CATEGORIES:Apnée,Ecole
END:VEVENT
END:VCALENDAR