BEGIN:VCALENDAR
VERSION:2.0
PRODID:-//CNV Plongée sous-marine - ECPv4.6.10.1//NONSGML v1.0//EN
CALSCALE:GREGORIAN
METHOD:PUBLISH
X-WR-CALNAME:CNV Plongée sous-marine
X-ORIGINAL-URL:http://cnv-plongee.fr
X-WR-CALDESC:Events for CNV Plongée sous-marine
BEGIN:VEVENT
DTSTART;TZID=UTC+1:20181128T210000
DTEND;TZID=UTC+1:20181128T230000
DTSTAMP:20260425T152355
CREATED:20180907T084822Z
LAST-MODIFIED:20180907T084822Z
UID:3013-1543438800-1543446000@cnv-plongee.fr
SUMMARY:N1 - N2 - Apnée - Baptême
DESCRIPTION:
URL:http://cnv-plongee.fr/event/n1-n2-apnee-bapteme-4/
CATEGORIES:Apnée,Ecole
END:VEVENT
END:VCALENDAR