BEGIN:VCALENDAR
VERSION:2.0
PRODID:-//CNV Plongée sous-marine - ECPv4.6.10.1//NONSGML v1.0//EN
CALSCALE:GREGORIAN
METHOD:PUBLISH
X-WR-CALNAME:CNV Plongée sous-marine
X-ORIGINAL-URL:http://cnv-plongee.fr
X-WR-CALDESC:Events for CNV Plongée sous-marine
BEGIN:VEVENT
DTSTART;TZID=UTC+1:20190223T140000
DTEND;TZID=UTC+1:20190223T160000
DTSTAMP:20260425T111929
CREATED:20180912T095534Z
LAST-MODIFIED:20180912T100011Z
UID:3093-1550930400-1550937600@cnv-plongee.fr
SUMMARY:Apnée - Fosse à Chartres
DESCRIPTION:
URL:http://cnv-plongee.fr/event/apnee-fosse-a-chartres-3/
CATEGORIES:Apnée
END:VEVENT
END:VCALENDAR