BEGIN:VCALENDAR
VERSION:2.0
PRODID:-//CNV Plongée sous-marine - ECPv4.6.10.1//NONSGML v1.0//EN
CALSCALE:GREGORIAN
METHOD:PUBLISH
X-WR-CALNAME:CNV Plongée sous-marine
X-ORIGINAL-URL:http://cnv-plongee.fr
X-WR-CALDESC:Events for CNV Plongée sous-marine
BEGIN:VEVENT
DTSTART;TZID=UTC+1:20190525T170000
DTEND;TZID=UTC+1:20190525T190000
DTSTAMP:20260423T214240
CREATED:20180912T095913Z
LAST-MODIFIED:20180912T095913Z
UID:3100-1558803600-1558810800@cnv-plongee.fr
SUMMARY:Apnée - Fosse à Chartres
DESCRIPTION:
URL:http://cnv-plongee.fr/event/apnee-fosse-a-chartres-6/
CATEGORIES:Apnée
END:VEVENT
END:VCALENDAR