BEGIN:VCALENDAR
VERSION:2.0
PRODID:-//CNV Plongée sous-marine - ECPv4.6.10.1//NONSGML v1.0//EN
CALSCALE:GREGORIAN
METHOD:PUBLISH
X-WR-CALNAME:CNV Plongée sous-marine
X-ORIGINAL-URL:http://cnv-plongee.fr
X-WR-CALDESC:Events for CNV Plongée sous-marine
BEGIN:VEVENT
DTSTART;TZID=UTC+1:20190413T203000
DTEND;TZID=UTC+1:20190413T233000
DTSTAMP:20260422T012038
CREATED:20180907T090438Z
LAST-MODIFIED:20190115T181205Z
UID:3045-1555187400-1555198200@cnv-plongee.fr
SUMMARY:Soirée Photo / Vidéo
DESCRIPTION:
URL:http://cnv-plongee.fr/event/soiree-photo-video/
CATEGORIES:Audiovisuel
END:VEVENT
END:VCALENDAR