BEGIN:VCALENDAR
VERSION:2.0
PRODID:-//CNV Plongée sous-marine - ECPv4.6.10.1//NONSGML v1.0//EN
CALSCALE:GREGORIAN
METHOD:PUBLISH
X-WR-CALNAME:CNV Plongée sous-marine
X-ORIGINAL-URL:http://cnv-plongee.fr
X-WR-CALDESC:Events for CNV Plongée sous-marine
BEGIN:VEVENT
DTSTART;TZID=UTC+1:20200425T203000
DTEND;TZID=UTC+1:20200425T233000
DTSTAMP:20260421T093237
CREATED:20200119T171225Z
LAST-MODIFIED:20200613T074647Z
UID:3908-1587846600-1587857400@cnv-plongee.fr
SUMMARY:Annulée COVID / Soirée Photo / Vidéo
DESCRIPTION:
URL:http://cnv-plongee.fr/event/soiree-photo-video-2/
CATEGORIES:Audiovisuel
END:VEVENT
END:VCALENDAR