BEGIN:VCALENDAR
VERSION:2.0
PRODID:-//CNV Plongée sous-marine - ECPv4.6.10.1//NONSGML v1.0//EN
CALSCALE:GREGORIAN
METHOD:PUBLISH
X-WR-CALNAME:CNV Plongée sous-marine
X-ORIGINAL-URL:http://cnv-plongee.fr
X-WR-CALDESC:Events for CNV Plongée sous-marine
BEGIN:VEVENT
DTSTART;TZID=UTC+1:20180201T210000
DTEND;TZID=UTC+1:20180201T230000
DTSTAMP:20260420T233519
CREATED:20180128T181608Z
LAST-MODIFIED:20180129T074331Z
UID:2357-1517518800-1517526000@cnv-plongee.fr
SUMMARY:Cours Biologie N2 au Chalet
DESCRIPTION:
URL:http://cnv-plongee.fr/event/cours-biologie-n2/
CATEGORIES:Biologie
END:VEVENT
END:VCALENDAR