BEGIN:VCALENDAR
VERSION:2.0
PRODID:-//CNV Plongée sous-marine - ECPv4.6.10.1//NONSGML v1.0//EN
CALSCALE:GREGORIAN
METHOD:PUBLISH
X-WR-CALNAME:CNV Plongée sous-marine
X-ORIGINAL-URL:http://cnv-plongee.fr
X-WR-CALDESC:Events for CNV Plongée sous-marine
BEGIN:VEVENT
DTSTART;TZID=UTC+1:20180525T203000
DTEND;TZID=UTC+1:20180525T223000
DTSTAMP:20260420T194629
CREATED:20180212T163904Z
LAST-MODIFIED:20180212T163904Z
UID:2521-1527280200-1527287400@cnv-plongee.fr
SUMMARY:Soirée BIO\, Quizz sur les crustacés et les mollusques
DESCRIPTION:
URL:http://cnv-plongee.fr/event/soiree-bio-quizz-sur-les-crustaces-et-les-mollusques/
CATEGORIES:Biologie
END:VEVENT
END:VCALENDAR