BEGIN:VCALENDAR
VERSION:2.0
PRODID:-//CNV Plongée sous-marine - ECPv4.6.10.1//NONSGML v1.0//EN
CALSCALE:GREGORIAN
METHOD:PUBLISH
X-WR-CALNAME:CNV Plongée sous-marine
X-ORIGINAL-URL:http://cnv-plongee.fr
X-WR-CALDESC:Events for CNV Plongée sous-marine
BEGIN:VEVENT
DTSTART;TZID=UTC+1:20190517T203000
DTEND;TZID=UTC+1:20190517T223000
DTSTAMP:20260420T045049
CREATED:20180721T102709Z
LAST-MODIFIED:20180830T145354Z
UID:2862-1558125000-1558132200@cnv-plongee.fr
SUMMARY:Cours N1 BIO : Mimétisme / camouflage   Evaluations
DESCRIPTION:
URL:http://cnv-plongee.fr/event/cours-bio-7/
CATEGORIES:Biologie
END:VEVENT
END:VCALENDAR