BEGIN:VCALENDAR
VERSION:2.0
PRODID:-//CNV Plongée sous-marine - ECPv4.6.10.1//NONSGML v1.0//EN
CALSCALE:GREGORIAN
METHOD:PUBLISH
X-WR-CALNAME:CNV Plongée sous-marine
X-ORIGINAL-URL:http://cnv-plongee.fr
X-WR-CALDESC:Events for CNV Plongée sous-marine
BEGIN:VEVENT
DTSTART;TZID=UTC+1:20190927T203000
DTEND;TZID=UTC+1:20190927T223000
DTSTAMP:20260419T230319
CREATED:20190915T170418Z
LAST-MODIFIED:20190915T170418Z
UID:3699-1569616200-1569623400@cnv-plongee.fr
SUMMARY:Soirée Bio : La faune de Mer Rouge
DESCRIPTION:
URL:http://cnv-plongee.fr/event/soiree-bio-la-faune-de-mer-rouge/
CATEGORIES:Biologie
END:VEVENT
END:VCALENDAR